BEGIN:VCALENDAR
VERSION:2.0
PRODID:-//FC Rottenburg 1946 e.V. - ECPv6.15.20//NONSGML v1.0//EN
CALSCALE:GREGORIAN
METHOD:PUBLISH
X-WR-CALNAME:FC Rottenburg 1946 e.V.
X-ORIGINAL-URL:https://fcrottenburg.de
X-WR-CALDESC:Veranstaltungen für FC Rottenburg 1946 e.V.
REFRESH-INTERVAL;VALUE=DURATION:PT1H
X-Robots-Tag:noindex
X-PUBLISHED-TTL:PT1H
BEGIN:VTIMEZONE
TZID:Europe/Berlin
BEGIN:DAYLIGHT
TZOFFSETFROM:+0100
TZOFFSETTO:+0200
TZNAME:CEST
DTSTART:20250330T010000
END:DAYLIGHT
BEGIN:STANDARD
TZOFFSETFROM:+0200
TZOFFSETTO:+0100
TZNAME:CET
DTSTART:20251026T010000
END:STANDARD
BEGIN:DAYLIGHT
TZOFFSETFROM:+0100
TZOFFSETTO:+0200
TZNAME:CEST
DTSTART:20260329T010000
END:DAYLIGHT
BEGIN:STANDARD
TZOFFSETFROM:+0200
TZOFFSETTO:+0100
TZNAME:CET
DTSTART:20261025T010000
END:STANDARD
BEGIN:DAYLIGHT
TZOFFSETFROM:+0100
TZOFFSETTO:+0200
TZNAME:CEST
DTSTART:20270328T010000
END:DAYLIGHT
BEGIN:STANDARD
TZOFFSETFROM:+0200
TZOFFSETTO:+0100
TZNAME:CET
DTSTART:20271031T010000
END:STANDARD
END:VTIMEZONE
BEGIN:VEVENT
DTSTART;TZID=Europe/Berlin:20260606T130000
DTEND;TZID=Europe/Berlin:20260606T150000
DTSTAMP:20260422T193857
CREATED:20260402T093657Z
LAST-MODIFIED:20260402T093657Z
UID:254884-1780750800-1780758000@fcrottenburg.de
SUMMARY:SGM Frohnstetten/Stetten a.k.M./Schwenningen - FCR TEAM Damen
DESCRIPTION:TEAM Damen\n\n\nSaison 2025/26\n\n\nRegionenliga 5 Württemberg\n\n\n22. und letzter Spieltag
URL:https://fcrottenburg.de/veranstaltung/sgm-frohnstetten-stetten-a-k-m-schwenningen-fcr-team-damen/
LOCATION:Sportplatz „Riederwäldle“ Frohnstetten\, Sportplatz Frohnstetten\, Riederwaldweg\, Stetten am kalten Markt\, 72510
CATEGORIES:Aktive Damen,Meisterschaft,Punktspiel,Regionenliga,TEAM Damen
END:VEVENT
BEGIN:VEVENT
DTSTART;TZID=Europe/Berlin:20260606T153000
DTEND;TZID=Europe/Berlin:20260606T173000
DTSTAMP:20260422T193857
CREATED:20260308T195456Z
LAST-MODIFIED:20260308T195456Z
UID:253906-1780759800-1780767000@fcrottenburg.de
SUMMARY:SSV Ehingen-Süd - FCR Herren
DESCRIPTION:Herren 1. Mannschaft\n\n\nSaison 2025/26\n\n\nVerbandsliga Württemberg\n\n\n34. und letzter Spieltag
URL:https://fcrottenburg.de/veranstaltung/ssv-ehingen-sued-fcr-herren/
LOCATION:Sportzentrum Ehingen-Kirchbierlingen\, Prälat-Walter-Straße 90\, Ehingen (Donau)\, 89584
CATEGORIES:Aktive Herren,Herren 1. Mannschaft,Meisterschaft,Punktspiel,Verbandsliga
END:VEVENT
BEGIN:VEVENT
DTSTART;TZID=Europe/Berlin:20260606T160000
DTEND;TZID=Europe/Berlin:20260606T180000
DTSTAMP:20260422T193857
CREATED:20260402T091209Z
LAST-MODIFIED:20260402T091209Z
UID:254871-1780761600-1780768800@fcrottenburg.de
SUMMARY:TSV Lustnau - FCR U23
DESCRIPTION:Herren U23\n\n\nSaison 2025/26\n\n\nKreisliga A3 Bezirk Alb\n\n\n30. und letzter Spieltag
URL:https://fcrottenburg.de/veranstaltung/tsv-lustnau-fcr-u23/
LOCATION:Sportanlage Lustnau\, Bismarckstraße 144\, Tübingen\, 72072
CATEGORIES:Aktive Herren,Bezirk Alb,Herren 2. Mannschaft,Herren U23,Kreisliga,Kreisliga A3,Meisterschaft,Punktspiel,U23
END:VEVENT
END:VCALENDAR