BEGIN:VCALENDAR
VERSION:2.0
PRODID:-//FC Rottenburg 1946 e.V. - ECPv6.15.20//NONSGML v1.0//EN
CALSCALE:GREGORIAN
METHOD:PUBLISH
X-WR-CALNAME:FC Rottenburg 1946 e.V.
X-ORIGINAL-URL:https://fcrottenburg.de
X-WR-CALDESC:Veranstaltungen für FC Rottenburg 1946 e.V.
REFRESH-INTERVAL;VALUE=DURATION:PT1H
X-Robots-Tag:noindex
X-PUBLISHED-TTL:PT1H
BEGIN:VTIMEZONE
TZID:Europe/Berlin
BEGIN:DAYLIGHT
TZOFFSETFROM:+0100
TZOFFSETTO:+0200
TZNAME:CEST
DTSTART:20250330T010000
END:DAYLIGHT
BEGIN:STANDARD
TZOFFSETFROM:+0200
TZOFFSETTO:+0100
TZNAME:CET
DTSTART:20251026T010000
END:STANDARD
BEGIN:DAYLIGHT
TZOFFSETFROM:+0100
TZOFFSETTO:+0200
TZNAME:CEST
DTSTART:20260329T010000
END:DAYLIGHT
BEGIN:STANDARD
TZOFFSETFROM:+0200
TZOFFSETTO:+0100
TZNAME:CET
DTSTART:20261025T010000
END:STANDARD
BEGIN:DAYLIGHT
TZOFFSETFROM:+0100
TZOFFSETTO:+0200
TZNAME:CEST
DTSTART:20270328T010000
END:DAYLIGHT
BEGIN:STANDARD
TZOFFSETFROM:+0200
TZOFFSETTO:+0100
TZNAME:CET
DTSTART:20271031T010000
END:STANDARD
END:VTIMEZONE
BEGIN:VEVENT
DTSTART;TZID=Europe/Berlin:20260301T103000
DTEND;TZID=Europe/Berlin:20260301T123000
DTSTAMP:20260422T180448
CREATED:20260301T174709Z
LAST-MODIFIED:20260301T174750Z
UID:253660-1772361000-1772368200@fcrottenburg.de
SUMMARY:✅ JFV Nordschwarzwald/Dornstetten - SGM SV Weiler/Eichenberg/FC Rottenburg 1:2
DESCRIPTION:B1-Junioren | U17\n\n\nSaison 2025/26\n\n\nTestspiele/ Vorbereitungsspiele\n\n\nDer JFV Nordschwarzwald/Dornstetten spielt in der Regionenstaffel Mitte 1 Württemberg.
URL:https://fcrottenburg.de/veranstaltung/jfv-nordschwarzwald-dornstetten-sgm-sv-weiler-eichenberg-fc-rottenburg/
LOCATION:Sportanlage Dornstetten (Kunstrasenplatz)\, Teichweg 70\, Dornstetten\, 72280
CATEGORIES:B-Junioren,B1-Junioren,Freundschaftsspiel,Testspiel,Vorbereitungsspiel
END:VEVENT
BEGIN:VEVENT
DTSTART;TZID=Europe/Berlin:20260301T130000
DTEND;TZID=Europe/Berlin:20260301T150000
DTSTAMP:20260422T180448
CREATED:20251214T105716Z
LAST-MODIFIED:20260226T215105Z
UID:251459-1772370000-1772377200@fcrottenburg.de
SUMMARY:❌ FCR TEAM Damen - SGM Bergfelden/Vöhringen abgesagt
DESCRIPTION:TEAM Damen\n\n\nSaison 2025/26\n\n\nTestspiele/ Vorbereitungsspiele\n\n\nDie SGM Bergfelden/Vöhringen spielt in der Bezirksliga Nordschwarzwald
URL:https://fcrottenburg.de/veranstaltung/fcr-team-damen-sgm-bergfelden-voehringen/
LOCATION:Großer Kunstrasenplatz Rottenburg (Hohenberg-Sportanlage)\, Jahnstr. 35\, Fußball-Club Rottenburg 1946 e.V.\, Rottenburg\, 72108
CATEGORIES:Aktive Damen,Freundschaftsspiel,TEAM Damen,Testspiel,Vorbereitungsspiel
END:VEVENT
BEGIN:VEVENT
DTSTART;TZID=Europe/Berlin:20260307T120000
DTEND;TZID=Europe/Berlin:20260307T140000
DTSTAMP:20260422T180448
CREATED:20251214T113836Z
LAST-MODIFIED:20260307T141057Z
UID:251461-1772884800-1772892000@fcrottenburg.de
SUMMARY:✅ SGM SV Weiler/Eichenberg/FCR U17 - TSG Tübingen II 1:2
DESCRIPTION:B1-Junioren | U17\n\n\nSaison 2025/26\n\n\nTestspiele/ Vorbereitungsspiele\n\n\nDie U16 der TSG Tübingen spielt in der Hinrunde in der Quali-Leistungsstaffel Tübingen
URL:https://fcrottenburg.de/veranstaltung/sgm-sv-weiler-eichenberg-fcr-u17-tsg-tuebingen-ii/
LOCATION:Großer Kunstrasenplatz Rottenburg (Hohenberg-Sportanlage)\, Jahnstr. 35\, Fußball-Club Rottenburg 1946 e.V.\, Rottenburg\, 72108
CATEGORIES:B-Junioren,B1-Junioren,Freundschaftsspiel,Testspiel,U17,Vorbereitungsspiel
END:VEVENT
BEGIN:VEVENT
DTSTART;TZID=Europe/Berlin:20260307T143000
DTEND;TZID=Europe/Berlin:20260307T163000
DTSTAMP:20260422T180448
CREATED:20251028T094317Z
LAST-MODIFIED:20260307T155158Z
UID:250143-1772893800-1772901000@fcrottenburg.de
SUMMARY:✅ FCR U23 - SpVgg BFSO 0:1
DESCRIPTION:Herren U23\n\n\nSaison 2025/26\n\n\nKreisliga A3 Bezirk Alb\n\n\n17. Spieltag\n\n\nErstes Spiel im neuen Jahr 2026
URL:https://fcrottenburg.de/veranstaltung/fcr-u23-spvgg-bfso/
LOCATION:Hohenberg-Sportanlage Rottenburg (Kunstrasenplatz Ringelwasen)\, Jahnstr. 35\, Fußball-Club Rottenburg 1946 e.V.\, Rottenburg\, 72108
CATEGORIES:Aktive Herren,Bezirk Alb,Herren 2. Mannschaft,Herren U23,Kreisliga A3,Meisterschaft,Punktspiel,U23
END:VEVENT
BEGIN:VEVENT
DTSTART;TZID=Europe/Berlin:20260308T120000
DTEND;TZID=Europe/Berlin:20260308T140000
DTSTAMP:20260422T180448
CREATED:20251214T130618Z
LAST-MODIFIED:20260306T172200Z
UID:251463-1772971200-1772978400@fcrottenburg.de
SUMMARY:❌ FCR TEAM Damen - SGM SC Neubulach/SV Schönbronn  abgesagt
DESCRIPTION:TEAM Damen\n\n\nSaison 2025/26\n\n\nTestspiele/ Vorbereitungsspiele\n\n\nDie SGM SC Neubulach und SV Schönbronn spielt in der Bezirksliga Nordschwarzwald
URL:https://fcrottenburg.de/veranstaltung/fcr-team-damen-sgm-sc-neubulach-sv-schoenbronn/
LOCATION:Großer Kunstrasenplatz Rottenburg (Hohenberg-Sportanlage)\, Jahnstr. 35\, Fußball-Club Rottenburg 1946 e.V.\, Rottenburg\, 72108
CATEGORIES:Aktive Damen,Freundschaftsspiel,TEAM Damen,Testspiel,Vorbereitungsspiel
END:VEVENT
BEGIN:VEVENT
DTSTART;TZID=Europe/Berlin:20260314T140000
DTEND;TZID=Europe/Berlin:20260314T160000
DTSTAMP:20260422T180448
CREATED:20251028T115537Z
LAST-MODIFIED:20260314T182542Z
UID:250183-1773496800-1773504000@fcrottenburg.de
SUMMARY:✅ VfR Heilbronn - FCR Herren 1:2
DESCRIPTION:Herren 1. Mannschaft\n\n\nSaison 2025/26\n\n\nVerbandsliga Württemberg\n\n\n22. Spieltag
URL:https://fcrottenburg.de/veranstaltung/vfr-heilbronn-fcr-herren/
LOCATION:Frankenstadion Heilbronn\, Badstraße 100\, Heilbronn\, 74072
CATEGORIES:Aktive Herren,Herren 1. Mannschaft,Meisterschaft,Punktspiel,Verbandsliga
END:VEVENT
BEGIN:VEVENT
DTSTART;TZID=Europe/Berlin:20260314T150000
DTEND;TZID=Europe/Berlin:20260314T170000
DTSTAMP:20260422T180448
CREATED:20251028T101805Z
LAST-MODIFIED:20260314T182910Z
UID:250160-1773500400-1773507600@fcrottenburg.de
SUMMARY:✅ SGM SV Hirr./Eich./FCR U19 - SGM Lustnau/Pfrondorf 3:0
DESCRIPTION:A-Junioren | U19/U18\n\n\nSaison 2025/26\n\n\nLeistungsstaffel Tübingen\, Bezirk Alb\n\n\n10. Spieltag\n\n\nErstes Spiel der Rückrunde und erstes Spiel im neuen Jahr 2026\n\n\nDie A-Junioren des FC Rottenburg spielen in der Saison 2025/26 in einer Spielgemeinschaft mit SGM SV Hirrlingen/Eichenberg.
URL:https://fcrottenburg.de/veranstaltung/sgm-sv-hirr-eich-fcr-u19-sgm-lustnau-pfrondorf/
LOCATION:Sportanlage „Am Tuchhäusle“ Hirrlingen\, Wilhelmstraße 109\, Hirrlingen\, 72145
CATEGORIES:A-Junioren,Bezirk Alb,Leistungsstaffel,Meisterschaft,Punktspiel,U19
END:VEVENT
BEGIN:VEVENT
DTSTART;TZID=Europe/Berlin:20260314T170000
DTEND;TZID=Europe/Berlin:20260314T190000
DTSTAMP:20260422T180448
CREATED:20251028T095704Z
LAST-MODIFIED:20260314T183714Z
UID:250151-1773507600-1773514800@fcrottenburg.de
SUMMARY:✅ TV Derendingen II - FCR TEAM Damen 0:0
DESCRIPTION:TEAM Damen\n\n\nSaison 2025/26\n\n\nRegionenliga 5 Württemberg\n\n\n13. Spieltag\n\n\nErstes Spiel im neuen Jahr 2026
URL:https://fcrottenburg.de/veranstaltung/tv-derendingen-ii-fcr-team-damen/
LOCATION:itdesign-Sportpark Derendingen (Kunstrasenplatz)\, Gartenstadt 1\, Tübingen\, 72072
CATEGORIES:Aktive Damen,Meisterschaft,Punktspiel,Regionenliga,TEAM Damen
END:VEVENT
BEGIN:VEVENT
DTSTART;TZID=Europe/Berlin:20260315T103000
DTEND;TZID=Europe/Berlin:20260315T123000
DTSTAMP:20260422T180448
CREATED:20251028T113548Z
LAST-MODIFIED:20260315T163935Z
UID:250171-1773570600-1773577800@fcrottenburg.de
SUMMARY:✅ SGM FC Holzhausen/Vöhringen - SGM SV Weiler/Eich./FCR U17 2:1
DESCRIPTION:B1-Junioren\n\n\nSaison 2025/26\n\n\nRegionenstaffel Mitte 1 Württemberg\n\n\n10. Spieltag\n\n\nErstes Spiel der Rückrunde und erstes Spiel im neuen Jahr 2026\n\n\nDie B-Junioren des FC Rottenburg spielen in der Saison 2025/26 in einer Spielgemeinschaft mit der SGM SV Weiler/Eichenberg.
URL:https://fcrottenburg.de/veranstaltung/sgm-fc-holzhausen-voehringen-sgm-sv-weiler-eich-fcr-u17/
LOCATION:Karl Hauser Sportpark Mühlheim\, Mühlheimer Str. 41\, Sulz am Neckar\, 72172
CATEGORIES:B-Junioren,B1-Junioren,Meisterschaft,Punktspiel,Regionenstaffel,U17
END:VEVENT
BEGIN:VEVENT
DTSTART;TZID=Europe/Berlin:20260315T150000
DTEND;TZID=Europe/Berlin:20260315T170000
DTSTAMP:20260422T180448
CREATED:20251028T115858Z
LAST-MODIFIED:20260315T163741Z
UID:250186-1773586800-1773594000@fcrottenburg.de
SUMMARY:✅ SGM Kiebingen/Bühl - FCR U23 2:2
DESCRIPTION:Herren U23\n\n\nSaison 2025/26\n\n\nKreisliga A3 Bezirk Alb\n\n\n18. Spieltag
URL:https://fcrottenburg.de/veranstaltung/sgm-kiebingen-buehl-fcr-u23/
LOCATION:Sportanlage Kiebingen\, Im Unterdorf 28\, Rottenburg am Neckar\, 72108
CATEGORIES:Aktive Herren,Bezirk Alb,Herren 2. Mannschaft,Herren U23,Kreisliga A3,Meisterschaft,Punktspiel,U23
END:VEVENT
BEGIN:VEVENT
DTSTART;TZID=Europe/Berlin:20260321T123000
DTEND;TZID=Europe/Berlin:20260321T143000
DTSTAMP:20260422T180448
CREATED:20260316T141238Z
LAST-MODIFIED:20260321T163004Z
UID:253989-1774096200-1774103400@fcrottenburg.de
SUMMARY:✅ FCR U15 - SGM SpVgg BFSO/Eichenberg 2:2
DESCRIPTION:C-Junioren | U15/U14\n\n\nSaison 2025/26\n\n\nLeistungsstaffel Tübingen\n\n\n1. Spieltag
URL:https://fcrottenburg.de/veranstaltung/fcr-u15-sgm-spvgg-bfso-eichenberg/
LOCATION:Großer Kunstrasenplatz Rottenburg (Hohenberg-Sportanlage)\, Jahnstr. 35\, Fußball-Club Rottenburg 1946 e.V.\, Rottenburg\, 72108
CATEGORIES:Bezirk Alb,C-Junioren,C1-Junioren,Leistungsstaffel,Meisterschaft,Punktspiel,U15
END:VEVENT
BEGIN:VEVENT
DTSTART;TZID=Europe/Berlin:20260321T150000
DTEND;TZID=Europe/Berlin:20260321T170000
DTSTAMP:20260422T180448
CREATED:20260307T141919Z
LAST-MODIFIED:20260321T163052Z
UID:253857-1774105200-1774112400@fcrottenburg.de
SUMMARY:✅ FCR Herren - FC Esslingen 5:1
DESCRIPTION:Herren 1. Mannschaft\n\n\nSaison 2025/26\n\n\nVerbandsliga Württemberg\n\n\n23. Spieltag
URL:https://fcrottenburg.de/veranstaltung/fcr-herren-fc-esslingen/
LOCATION:Großer Kunstrasenplatz Rottenburg (Hohenberg-Sportanlage)\, Jahnstr. 35\, Fußball-Club Rottenburg 1946 e.V.\, Rottenburg\, 72108
CATEGORIES:Aktive Herren,Herren 1. Mannschaft,Meisterschaft,Punktspiel,Verbandsliga
END:VEVENT
BEGIN:VEVENT
DTSTART;TZID=Europe/Berlin:20260322T103000
DTEND;TZID=Europe/Berlin:20260322T123000
DTSTAMP:20260422T180448
CREATED:20251028T120949Z
LAST-MODIFIED:20260322T121435Z
UID:250193-1774175400-1774182600@fcrottenburg.de
SUMMARY:✅ SGM SV Weiler/Eich./FCR U17 - SGM Deckenpfronn/Kuppingen/Sulz 2:0
DESCRIPTION:B1-Junioren\n\n\nSaison 2025/26\n\n\nRegionenstaffel Mitte 1 Württemberg\n\n\n11. Spieltag\n\n\nDie B-Junioren des FC Rottenburg spielen in der Saison 2025/26 in einer Spielgemeinschaft mit der SGM SV Weiler/Eichenberg.
URL:https://fcrottenburg.de/veranstaltung/sgm-sv-weiler-eich-fcr-u17-sgm-deckenpfronn-kuppingen-sulz/
LOCATION:Konrad Ulmer Sportplatz Dettingen\, Härlesweg 59\, Rottenburg am Neckar\, 72108
CATEGORIES:B-Junioren,B1-Junioren,Meisterschaft,Regionenstaffel,U17
END:VEVENT
BEGIN:VEVENT
DTSTART;TZID=Europe/Berlin:20260322T110000
DTEND;TZID=Europe/Berlin:20260322T130000
DTSTAMP:20260422T180448
CREATED:20251028T120224Z
LAST-MODIFIED:20260322T121241Z
UID:250189-1774177200-1774184400@fcrottenburg.de
SUMMARY:✅ FCR TEAM Damen - SGM Oberndorf/Poltringen 0:1
DESCRIPTION:TEAM Damen\n\n\nSaison 2025/26\n\n\nRegionenliga 5 Württemberg\n\n\n14. Spieltag
URL:https://fcrottenburg.de/veranstaltung/fcr-team-damen-sgm-oberndorf-poltringen/
LOCATION:Hohenberg-Sportanlage Rottenburg (Kunstrasenplatz Ringelwasen)\, Jahnstr. 35\, Fußball-Club Rottenburg 1946 e.V.\, Rottenburg\, 72108
CATEGORIES:Aktive Damen,Meisterschaft,Regionenliga,TEAM Damen
END:VEVENT
BEGIN:VEVENT
DTSTART;TZID=Europe/Berlin:20260322T150000
DTEND;TZID=Europe/Berlin:20260322T170000
DTSTAMP:20260422T180448
CREATED:20260308T200157Z
LAST-MODIFIED:20260323T114838Z
UID:253909-1774191600-1774198800@fcrottenburg.de
SUMMARY:✅ FCR U23 - SV Neustetten 1:2
DESCRIPTION:Herren U23\n\n\nSaison 2025/26\n\n\nKreisliga A3 Bezirk Alb\n\n\n19. Spieltag
URL:https://fcrottenburg.de/veranstaltung/fcr-u23-sv-neustetten/
LOCATION:Großer Kunstrasenplatz Rottenburg (Hohenberg-Sportanlage)\, Jahnstr. 35\, Fußball-Club Rottenburg 1946 e.V.\, Rottenburg\, 72108
CATEGORIES:Aktive Herren,Herren 2. Mannschaft,Herren U23,Kreisliga A3,Meisterschaft,Punktspiel
END:VEVENT
BEGIN:VEVENT
DTSTART;TZID=Europe/Berlin:20260323T190000
DTEND;TZID=Europe/Berlin:20260323T210000
DTSTAMP:20260422T180448
CREATED:20260323T125805Z
LAST-MODIFIED:20260323T203132Z
UID:254340-1774292400-1774299600@fcrottenburg.de
SUMMARY:✅ SGM SV Hirr./Eich./FCR U19 - SGM FC Mittelstadt/TV Bempflingen 2:2
DESCRIPTION:A-Junioren | U18/U19\n\n\nSaison 2025/26\n\n\nLeistungsstaffel Tübingen\n\n\nNachholspiel vom 9. Spieltag\n\n\nDie A-Junioren des FC Rottenburg spielen in der Saison 2025/26 in einer Spielgemeinschaft mit SGM SV Hirrlingen/Eichenberg.\n\n\n\n 
URL:https://fcrottenburg.de/veranstaltung/sgm-sv-hirr-eich-fcr-u19-sgm-fc-mittelstadt-tv-bempflingen/
LOCATION:Sportanlage „Am Tuchhäusle“ Hirrlingen\, Wilhelmstraße 109\, Hirrlingen\, 72145
CATEGORIES:A-Junioren,Bezirk Alb,Leistungsstaffel,Meisterschaft,Punktspiel,U19
END:VEVENT
BEGIN:VEVENT
DTSTART;TZID=Europe/Berlin:20260328T150000
DTEND;TZID=Europe/Berlin:20260328T170000
DTSTAMP:20260422T180448
CREATED:20260307T152746Z
LAST-MODIFIED:20260328T183604Z
UID:253859-1774710000-1774717200@fcrottenburg.de
SUMMARY:✅ TSG Tübingen - FCR Herren 5:2
DESCRIPTION:Herren 1. Mannschaft\n\n\nSaison 2025/26\n\n\nVerbandsliga Württemberg\n\n\n24. Spieltag
URL:https://fcrottenburg.de/veranstaltung/tsg-tuebingen-fcr-herren/
LOCATION:TSG-Gelände Tübingen\, Freibad 3\, Tübingen\, 72072
CATEGORIES:Aktive Herren,Herren 1. Mannschaft,Meisterschaft,Punktspiel,Verbandsliga
END:VEVENT
BEGIN:VEVENT
DTSTART;TZID=Europe/Berlin:20260328T150000
DTEND;TZID=Europe/Berlin:20260328T170000
DTSTAMP:20260422T180448
CREATED:20260323T130137Z
LAST-MODIFIED:20260328T183642Z
UID:254342-1774710000-1774717200@fcrottenburg.de
SUMMARY:✅ SGM SV Hirr./Eich./FCR U19 - SGM SV Walddorf/Schönbuch United 3:1
DESCRIPTION:A-Junioren | U18/U19\n\n\nSaison 2025/26\n\n\nLeistungsstaffel Tübingen\n\n\n12. Spieltag\n\n\nDie A-Junioren des FC Rottenburg spielen in der Saison 2025/26 in einer Spielgemeinschaft mit SGM SV Hirrlingen/Eichenberg.\n\n\n\n 
URL:https://fcrottenburg.de/veranstaltung/sgm-sv-hirr-eich-fcr-u19-sgm-sv-walddorf-schoenbuch-united/
LOCATION:Sportanlage „Am Tuchhäusle“ Hirrlingen\, Wilhelmstraße 109\, Hirrlingen\, 72145
CATEGORIES:A-Junioren,Bezirk Alb,Leistungsstaffel,Meisterschaft,Punktspiel,U19
END:VEVENT
BEGIN:VEVENT
DTSTART;TZID=Europe/Berlin:20260329T110000
DTEND;TZID=Europe/Berlin:20260329T130000
DTSTAMP:20260422T180448
CREATED:20260323T130627Z
LAST-MODIFIED:20260329T111500Z
UID:254345-1774782000-1774789200@fcrottenburg.de
SUMMARY:✅ SGM SG Öpfingen/SG Altheim II - FCR TEAM Damen 5:0
DESCRIPTION:TEAM Damen\n\n\nSaison 2025/26\n\n\nRegionenliga 5 Württemberg\n\n\n15. Spieltag
URL:https://fcrottenburg.de/veranstaltung/sgm-sg-oepfingen-sg-altheim-ii-fcr-team-damen/
LOCATION:Sportanlage Öpfingen\, Sportplatz 1 (Rasen)\, Schloßhofstraße\, Öpfingen\, 89614
CATEGORIES:Aktive Damen,Meisterschaft,Punktspiel,Regionenliga,TEAM Damen
END:VEVENT
BEGIN:VEVENT
DTSTART;TZID=Europe/Berlin:20260329T130000
DTEND;TZID=Europe/Berlin:20260329T150000
DTSTAMP:20260422T180448
CREATED:20260323T130858Z
LAST-MODIFIED:20260329T190130Z
UID:254347-1774789200-1774796400@fcrottenburg.de
SUMMARY:✅ TV Derendingen II - FCR U23 2:4
DESCRIPTION:Herren U23\n\n\nSaison 2025/26\n\n\nKreisliga A3 Bezirk Alb\n\n\n20. Spieltag
URL:https://fcrottenburg.de/veranstaltung/tv-derendingen-ii-fcr-u23/
LOCATION:itdesign-Sportpark Derendingen (Kunstrasenplatz)\, Gartenstadt 1\, Tübingen\, 72072
CATEGORIES:Aktive Herren,Bezirk Alb,Kreisliga,Kreisliga A3,Meisterschaft,Punktspiel,U23
END:VEVENT
END:VCALENDAR