BEGIN:VCALENDAR
VERSION:2.0
PRODID:-//FC Rottenburg 1946 e.V. - ECPv6.15.20//NONSGML v1.0//EN
CALSCALE:GREGORIAN
METHOD:PUBLISH
X-WR-CALNAME:FC Rottenburg 1946 e.V.
X-ORIGINAL-URL:https://fcrottenburg.de
X-WR-CALDESC:Veranstaltungen für FC Rottenburg 1946 e.V.
REFRESH-INTERVAL;VALUE=DURATION:PT1H
X-Robots-Tag:noindex
X-PUBLISHED-TTL:PT1H
BEGIN:VTIMEZONE
TZID:Europe/Berlin
BEGIN:DAYLIGHT
TZOFFSETFROM:+0100
TZOFFSETTO:+0200
TZNAME:CEST
DTSTART:20250330T010000
END:DAYLIGHT
BEGIN:STANDARD
TZOFFSETFROM:+0200
TZOFFSETTO:+0100
TZNAME:CET
DTSTART:20251026T010000
END:STANDARD
BEGIN:DAYLIGHT
TZOFFSETFROM:+0100
TZOFFSETTO:+0200
TZNAME:CEST
DTSTART:20260329T010000
END:DAYLIGHT
BEGIN:STANDARD
TZOFFSETFROM:+0200
TZOFFSETTO:+0100
TZNAME:CET
DTSTART:20261025T010000
END:STANDARD
BEGIN:DAYLIGHT
TZOFFSETFROM:+0100
TZOFFSETTO:+0200
TZNAME:CEST
DTSTART:20270328T010000
END:DAYLIGHT
BEGIN:STANDARD
TZOFFSETFROM:+0200
TZOFFSETTO:+0100
TZNAME:CET
DTSTART:20271031T010000
END:STANDARD
END:VTIMEZONE
BEGIN:VEVENT
DTSTART;TZID=Europe/Berlin:20260523T140000
DTEND;TZID=Europe/Berlin:20260523T160000
DTSTAMP:20260422T193235
CREATED:20260308T182530Z
LAST-MODIFIED:20260308T182530Z
UID:253901-1779544800-1779552000@fcrottenburg.de
SUMMARY:Spfr Schwäbisch Hall - FCR Herren
DESCRIPTION:Herren 1. Mannschaft\n\n\nSaison 2025/26\n\n\nVerbandsliga Württemberg\n\n\n32. Spieltag
URL:https://fcrottenburg.de/veranstaltung/spfr-schwaebisch-hall-fcr-herren/
LOCATION:Optima Sportpark Schwäbisch Hall\, Spitalmühlenstraße 28\, Schwäbisch Hall\, 74523
CATEGORIES:Aktive Herren,Herren 1. Mannschaft,Meisterschaft,Verbandsliga
END:VEVENT
END:VCALENDAR