BEGIN:VCALENDAR
VERSION:2.0
PRODID:-//FC Rottenburg 1946 e.V. - ECPv6.15.20//NONSGML v1.0//EN
CALSCALE:GREGORIAN
METHOD:PUBLISH
X-ORIGINAL-URL:https://fcrottenburg.de
X-WR-CALDESC:Veranstaltungen für FC Rottenburg 1946 e.V.
REFRESH-INTERVAL;VALUE=DURATION:PT1H
X-Robots-Tag:noindex
X-PUBLISHED-TTL:PT1H
BEGIN:VTIMEZONE
TZID:Europe/Berlin
BEGIN:DAYLIGHT
TZOFFSETFROM:+0100
TZOFFSETTO:+0200
TZNAME:CEST
DTSTART:20250330T010000
END:DAYLIGHT
BEGIN:STANDARD
TZOFFSETFROM:+0200
TZOFFSETTO:+0100
TZNAME:CET
DTSTART:20251026T010000
END:STANDARD
BEGIN:DAYLIGHT
TZOFFSETFROM:+0100
TZOFFSETTO:+0200
TZNAME:CEST
DTSTART:20260329T010000
END:DAYLIGHT
BEGIN:STANDARD
TZOFFSETFROM:+0200
TZOFFSETTO:+0100
TZNAME:CET
DTSTART:20261025T010000
END:STANDARD
BEGIN:DAYLIGHT
TZOFFSETFROM:+0100
TZOFFSETTO:+0200
TZNAME:CEST
DTSTART:20270328T010000
END:DAYLIGHT
BEGIN:STANDARD
TZOFFSETFROM:+0200
TZOFFSETTO:+0100
TZNAME:CET
DTSTART:20271031T010000
END:STANDARD
END:VTIMEZONE
BEGIN:VEVENT
DTSTART;TZID=Europe/Berlin:20260510T110000
DTEND;TZID=Europe/Berlin:20260510T130000
DTSTAMP:20260422T193537
CREATED:20260402T092749Z
LAST-MODIFIED:20260402T092749Z
UID:254876-1778410800-1778418000@fcrottenburg.de
SUMMARY:SSV Reutlingen 1905 - FCR TEAM Damen
DESCRIPTION:TEAM Damen\n\n\nSaison 2025/26\n\n\nRegionenliga 5 Württemberg\n\n\n19. Spieltag
URL:https://fcrottenburg.de/veranstaltung/ssv-reutlingen-1905-fcr-team-damen/
LOCATION:Sport- und Freizeitpark Markwasen Reutlingen\, An der Kreuzeiche 4\, Reutlingen\, 72762
CATEGORIES:Aktive Damen,Meisterschaft,Regionenliga,TEAM Damen
END:VEVENT
BEGIN:VEVENT
DTSTART;TZID=Europe/Berlin:20260510T130000
DTEND;TZID=Europe/Berlin:20260510T150000
DTSTAMP:20260422T193537
CREATED:20260402T090300Z
LAST-MODIFIED:20260402T090300Z
UID:254863-1778418000-1778425200@fcrottenburg.de
SUMMARY:TSV Ofterdingen II - FCR U23
DESCRIPTION:Herren U23\n\n\nSaison 2025/26\n\n\nKreisliga A3 Bezirk Alb\n\n\n26. Spieltag
URL:https://fcrottenburg.de/veranstaltung/tsv-ofterdingen-ii-fcr-u23/
LOCATION:Steinlach-Stadion Ofterdingen (Kunstrasenplatz)\, Mössinger Str. 14/1\, Ofterdingen\, 72131
CATEGORIES:Aktive Herren,Bezirk Alb,Herren 2. Mannschaft,Herren U23,Kreisliga,Kreisliga A3,Meisterschaft,Punktspiel,U23
END:VEVENT
BEGIN:VEVENT
DTSTART;TZID=Europe/Berlin:20260510T150000
DTEND;TZID=Europe/Berlin:20260510T170000
DTSTAMP:20260422T193537
CREATED:20260308T151814Z
LAST-MODIFIED:20260308T151814Z
UID:253896-1778425200-1778432400@fcrottenburg.de
SUMMARY:Calcio Leinfelden-Echterdingen - FCR Herren
DESCRIPTION:Herren 1. Mannschaft\n\n\nSaison 2025/26\n\n\nVerbandsliga Württemberg\n\n\n30. Spieltag
URL:https://fcrottenburg.de/veranstaltung/calcio-leinfelden-echterdingen-fcr-herren/
LOCATION:Sportpark Goldäcker Echterdingen\, Leinfelder Str. 101\, Leinfelden-Echterdingen\, 70771
CATEGORIES:Aktive Herren,Herren 1. Mannschaft,Meisterschaft,Punktspiel,Verbandsliga
END:VEVENT
END:VCALENDAR