BEGIN:VCALENDAR
VERSION:2.0
PRODID:-//FC Rottenburg 1946 e.V. - ECPv6.15.20//NONSGML v1.0//EN
CALSCALE:GREGORIAN
METHOD:PUBLISH
X-ORIGINAL-URL:https://fcrottenburg.de
X-WR-CALDESC:Veranstaltungen für FC Rottenburg 1946 e.V.
REFRESH-INTERVAL;VALUE=DURATION:PT1H
X-Robots-Tag:noindex
X-PUBLISHED-TTL:PT1H
BEGIN:VTIMEZONE
TZID:Europe/Berlin
BEGIN:DAYLIGHT
TZOFFSETFROM:+0100
TZOFFSETTO:+0200
TZNAME:CEST
DTSTART:20250330T010000
END:DAYLIGHT
BEGIN:STANDARD
TZOFFSETFROM:+0200
TZOFFSETTO:+0100
TZNAME:CET
DTSTART:20251026T010000
END:STANDARD
BEGIN:DAYLIGHT
TZOFFSETFROM:+0100
TZOFFSETTO:+0200
TZNAME:CEST
DTSTART:20260329T010000
END:DAYLIGHT
BEGIN:STANDARD
TZOFFSETFROM:+0200
TZOFFSETTO:+0100
TZNAME:CET
DTSTART:20261025T010000
END:STANDARD
BEGIN:DAYLIGHT
TZOFFSETFROM:+0100
TZOFFSETTO:+0200
TZNAME:CEST
DTSTART:20270328T010000
END:DAYLIGHT
BEGIN:STANDARD
TZOFFSETFROM:+0200
TZOFFSETTO:+0100
TZNAME:CET
DTSTART:20271031T010000
END:STANDARD
END:VTIMEZONE
BEGIN:VEVENT
DTSTART;TZID=Europe/Berlin:20260425T150000
DTEND;TZID=Europe/Berlin:20260425T163000
DTSTAMP:20260422T180000
CREATED:20260329T211052Z
LAST-MODIFIED:20260329T211052Z
UID:254650-1777129200-1777134600@fcrottenburg.de
SUMMARY:FCR U15 - SSC Tübingen
DESCRIPTION:C-Junioren | U15/U14\n\n\nSaison 2025/26\n\n\nLeistungsstaffel Tübingen\n\n\n4. Spieltag
URL:https://fcrottenburg.de/veranstaltung/fcr-u15-ssc-tuebingen/
LOCATION:Großer Kunstrasenplatz Rottenburg (Hohenberg-Sportanlage)\, Jahnstr. 35\, Fußball-Club Rottenburg 1946 e.V.\, Rottenburg\, 72108
CATEGORIES:C-Junioren,C1-Junioren,Leistungsstaffel,Meisterschaft,Punktspiel,U15
END:VEVENT
BEGIN:VEVENT
DTSTART;TZID=Europe/Berlin:20260425T153000
DTEND;TZID=Europe/Berlin:20260425T173000
DTSTAMP:20260422T180000
CREATED:20260307T183256Z
LAST-MODIFIED:20260307T183256Z
UID:253876-1777131000-1777138200@fcrottenburg.de
SUMMARY:VfB Friedrichshafen - FCR Herren
DESCRIPTION:Herren 1. Mannschaft\n\n\nSaison 2025/26\n\n\nVerbandsliga Württemberg\n\n\n28. Spieltag
URL:https://fcrottenburg.de/veranstaltung/vfb-friedrichshafen-fcr-herren/
LOCATION:Zeppelinstadion Friedrichshafen\, Teuringer Str. 2\, Friedrichshafen\, 88045
CATEGORIES:Aktive Herren,Herren 1. Mannschaft,Meisterschaft,Punktspiel,Verbandsliga
END:VEVENT
BEGIN:VEVENT
DTSTART;TZID=Europe/Berlin:20260425T153000
DTEND;TZID=Europe/Berlin:20260425T173000
DTSTAMP:20260422T180000
CREATED:20260329T194223Z
LAST-MODIFIED:20260329T194223Z
UID:254640-1777131000-1777138200@fcrottenburg.de
SUMMARY:SGM SV Hirr./Eich./FCR U19 - SGM Spvgg Mössingen/Belsen
DESCRIPTION:A-Junioren | U18/U19\n\n\nSaison 2025/26\n\n\nLeistungsstaffel Tübingen\n\n\n14. Spieltag\n\n\nDie A-Junioren des FC Rottenburg spielen in der Saison 2025/26 in einer Spielgemeinschaft mit SGM SV Hirrlingen/Eichenberg.\n\n\n\n 
URL:https://fcrottenburg.de/veranstaltung/sgm-sv-hirr-eich-fcr-u19-sgm-spvgg-moessingen-belsen/
LOCATION:Sportanlage „Am Tuchhäusle“ Hirrlingen\, Wilhelmstraße 109\, Hirrlingen\, 72145
CATEGORIES:A-Junioren,Bezirk Alb,Leistungsstaffel,Meisterschaft,Punktspiel,U19
END:VEVENT
END:VCALENDAR