BEGIN:VCALENDAR
VERSION:2.0
PRODID:-//FC Rottenburg 1946 e.V. - ECPv6.15.20//NONSGML v1.0//EN
CALSCALE:GREGORIAN
METHOD:PUBLISH
X-ORIGINAL-URL:https://fcrottenburg.de
X-WR-CALDESC:Veranstaltungen für FC Rottenburg 1946 e.V.
REFRESH-INTERVAL;VALUE=DURATION:PT1H
X-Robots-Tag:noindex
X-PUBLISHED-TTL:PT1H
BEGIN:VTIMEZONE
TZID:Europe/Berlin
BEGIN:DAYLIGHT
TZOFFSETFROM:+0100
TZOFFSETTO:+0200
TZNAME:CEST
DTSTART:20250330T010000
END:DAYLIGHT
BEGIN:STANDARD
TZOFFSETFROM:+0200
TZOFFSETTO:+0100
TZNAME:CET
DTSTART:20251026T010000
END:STANDARD
BEGIN:DAYLIGHT
TZOFFSETFROM:+0100
TZOFFSETTO:+0200
TZNAME:CEST
DTSTART:20260329T010000
END:DAYLIGHT
BEGIN:STANDARD
TZOFFSETFROM:+0200
TZOFFSETTO:+0100
TZNAME:CET
DTSTART:20261025T010000
END:STANDARD
BEGIN:DAYLIGHT
TZOFFSETFROM:+0100
TZOFFSETTO:+0200
TZNAME:CEST
DTSTART:20270328T010000
END:DAYLIGHT
BEGIN:STANDARD
TZOFFSETFROM:+0200
TZOFFSETTO:+0100
TZNAME:CET
DTSTART:20271031T010000
END:STANDARD
END:VTIMEZONE
BEGIN:VEVENT
DTSTART;TZID=Europe/Berlin:20260424T193000
DTEND;TZID=Europe/Berlin:20260424T213000
DTSTAMP:20260422T175333
CREATED:20260329T191646Z
LAST-MODIFIED:20260420T101936Z
UID:254632-1777059000-1777066200@fcrottenburg.de
SUMMARY:FCR TEAM Damen - TSV Lustnau II
DESCRIPTION:TEAM Damen\n\n\nSaison 2025/26\n\n\nRegionenliga 5 Württemberg\n\n\n17. Spieltag
URL:https://fcrottenburg.de/veranstaltung/fcr-team-damen-tsv-lustnau-ii/
LOCATION:Großer Kunstrasenplatz Rottenburg (Hohenberg-Sportanlage)\, Jahnstr. 35\, Fußball-Club Rottenburg 1946 e.V.\, Rottenburg\, 72108
CATEGORIES:Aktive Damen,Meisterschaft,Regionenliga,TEAM Damen
END:VEVENT
END:VCALENDAR