BEGIN:VCALENDAR
VERSION:2.0
PRODID:-//FC Rottenburg 1946 e.V. - ECPv6.15.20//NONSGML v1.0//EN
CALSCALE:GREGORIAN
METHOD:PUBLISH
X-WR-CALNAME:FC Rottenburg 1946 e.V.
X-ORIGINAL-URL:https://fcrottenburg.de
X-WR-CALDESC:Veranstaltungen für FC Rottenburg 1946 e.V.
REFRESH-INTERVAL;VALUE=DURATION:PT1H
X-Robots-Tag:noindex
X-PUBLISHED-TTL:PT1H
BEGIN:VTIMEZONE
TZID:Europe/Berlin
BEGIN:DAYLIGHT
TZOFFSETFROM:+0100
TZOFFSETTO:+0200
TZNAME:CEST
DTSTART:20250330T010000
END:DAYLIGHT
BEGIN:STANDARD
TZOFFSETFROM:+0200
TZOFFSETTO:+0100
TZNAME:CET
DTSTART:20251026T010000
END:STANDARD
BEGIN:DAYLIGHT
TZOFFSETFROM:+0100
TZOFFSETTO:+0200
TZNAME:CEST
DTSTART:20260329T010000
END:DAYLIGHT
BEGIN:STANDARD
TZOFFSETFROM:+0200
TZOFFSETTO:+0100
TZNAME:CET
DTSTART:20261025T010000
END:STANDARD
BEGIN:DAYLIGHT
TZOFFSETFROM:+0100
TZOFFSETTO:+0200
TZNAME:CEST
DTSTART:20270328T010000
END:DAYLIGHT
BEGIN:STANDARD
TZOFFSETFROM:+0200
TZOFFSETTO:+0100
TZNAME:CET
DTSTART:20271031T010000
END:STANDARD
END:VTIMEZONE
BEGIN:VEVENT
DTSTART;TZID=Europe/Berlin:20260308T120000
DTEND;TZID=Europe/Berlin:20260308T140000
DTSTAMP:20260422T194413
CREATED:20251214T130618Z
LAST-MODIFIED:20260306T172200Z
UID:251463-1772971200-1772978400@fcrottenburg.de
SUMMARY:❌ FCR TEAM Damen - SGM SC Neubulach/SV Schönbronn  abgesagt
DESCRIPTION:TEAM Damen\n\n\nSaison 2025/26\n\n\nTestspiele/ Vorbereitungsspiele\n\n\nDie SGM SC Neubulach und SV Schönbronn spielt in der Bezirksliga Nordschwarzwald
URL:https://fcrottenburg.de/veranstaltung/fcr-team-damen-sgm-sc-neubulach-sv-schoenbronn/
LOCATION:Großer Kunstrasenplatz Rottenburg (Hohenberg-Sportanlage)\, Jahnstr. 35\, Fußball-Club Rottenburg 1946 e.V.\, Rottenburg\, 72108
CATEGORIES:Aktive Damen,Freundschaftsspiel,TEAM Damen,Testspiel,Vorbereitungsspiel
END:VEVENT
END:VCALENDAR